BEGIN:VCALENDAR
VERSION:2.0
PRODID:-//HBSV 1965 e.V. - ECPv6.15.17.1//NONSGML v1.0//EN
CALSCALE:GREGORIAN
METHOD:PUBLISH
X-WR-CALNAME:HBSV 1965 e.V.
X-ORIGINAL-URL:https://hbsv-1965.de
X-WR-CALDESC:Veranstaltungen für HBSV 1965 e.V.
REFRESH-INTERVAL;VALUE=DURATION:PT1H
X-Robots-Tag:noindex
X-PUBLISHED-TTL:PT1H
BEGIN:VTIMEZONE
TZID:Europe/Berlin
BEGIN:DAYLIGHT
TZOFFSETFROM:+0100
TZOFFSETTO:+0200
TZNAME:CEST
DTSTART:20240331T010000
END:DAYLIGHT
BEGIN:STANDARD
TZOFFSETFROM:+0200
TZOFFSETTO:+0100
TZNAME:CET
DTSTART:20241027T010000
END:STANDARD
BEGIN:DAYLIGHT
TZOFFSETFROM:+0100
TZOFFSETTO:+0200
TZNAME:CEST
DTSTART:20250330T010000
END:DAYLIGHT
BEGIN:STANDARD
TZOFFSETFROM:+0200
TZOFFSETTO:+0100
TZNAME:CET
DTSTART:20251026T010000
END:STANDARD
BEGIN:DAYLIGHT
TZOFFSETFROM:+0100
TZOFFSETTO:+0200
TZNAME:CEST
DTSTART:20260329T010000
END:DAYLIGHT
BEGIN:STANDARD
TZOFFSETFROM:+0200
TZOFFSETTO:+0100
TZNAME:CET
DTSTART:20261025T010000
END:STANDARD
END:VTIMEZONE
BEGIN:VEVENT
DTSTART;TZID=Europe/Berlin:20250602T000000
DTEND;TZID=Europe/Berlin:20250621T235959
DTSTAMP:20260420T102729
CREATED:20250610T102843Z
LAST-MODIFIED:20250610T102846Z
UID:4247-1748822400-1750550399@hbsv-1965.de
SUMMARY:Stadtradeln
DESCRIPTION:Stadtradeln – Radeln für ein gutes Klima \n\n\n\ndie Phase hat zwar schon begonnen\, aber wer noch beim Stadtradeln einsteigen möchte\, der ist Herzlich-Willkommen: \n\n\n\nhttps://www.stadtradeln.de/index.php?id=171&L=0&team_preselect=51601 \n\n\n\nKlicke auf den obigen Link um dich beim Stadtradeln anzumelden. Falls du dich zum ersten mal anmeldest\, musst du dich neu registrieren. Dazu auf den Pfeil rechts neben „Registrierung“ klicken und dann den Anweisungen folgen. Als vorhandenes Team ist bereits „HBSV“ angegeben\, dieses auswählen und dann fertigstellen.Vielen Dank\, liebe Bea\, für den Hinweis und die Organisation.
URL:https://hbsv-1965.de/event/stadtradeln/
LOCATION:NRW
ATTACH;FMTTYPE=image/png:https://hbsv-1965.de/wp-content/uploads/2025/06/pastedImage-1.png
END:VEVENT
END:VCALENDAR