BEGIN:VCALENDAR
VERSION:2.0
PRODID:-//HBSV 1965 e.V. - ECPv6.15.17.1//NONSGML v1.0//EN
CALSCALE:GREGORIAN
METHOD:PUBLISH
X-WR-CALNAME:HBSV 1965 e.V.
X-ORIGINAL-URL:https://hbsv-1965.de
X-WR-CALDESC:Veranstaltungen für HBSV 1965 e.V.
REFRESH-INTERVAL;VALUE=DURATION:PT1H
X-Robots-Tag:noindex
X-PUBLISHED-TTL:PT1H
BEGIN:VTIMEZONE
TZID:Europe/Berlin
BEGIN:DAYLIGHT
TZOFFSETFROM:+0100
TZOFFSETTO:+0200
TZNAME:CEST
DTSTART:20240331T010000
END:DAYLIGHT
BEGIN:STANDARD
TZOFFSETFROM:+0200
TZOFFSETTO:+0100
TZNAME:CET
DTSTART:20241027T010000
END:STANDARD
BEGIN:DAYLIGHT
TZOFFSETFROM:+0100
TZOFFSETTO:+0200
TZNAME:CEST
DTSTART:20250330T010000
END:DAYLIGHT
BEGIN:STANDARD
TZOFFSETFROM:+0200
TZOFFSETTO:+0100
TZNAME:CET
DTSTART:20251026T010000
END:STANDARD
BEGIN:DAYLIGHT
TZOFFSETFROM:+0100
TZOFFSETTO:+0200
TZNAME:CEST
DTSTART:20260329T010000
END:DAYLIGHT
BEGIN:STANDARD
TZOFFSETFROM:+0200
TZOFFSETTO:+0100
TZNAME:CET
DTSTART:20261025T010000
END:STANDARD
END:VTIMEZONE
BEGIN:VEVENT
DTSTART;TZID=Europe/Berlin:20251010T180000
DTEND;TZID=Europe/Berlin:20251010T210000
DTSTAMP:20260423T215330
CREATED:20250324T154811Z
LAST-MODIFIED:20250324T154814Z
UID:4124-1760119200-1760130000@hbsv-1965.de
SUMMARY:Kinderdisco Herbst
DESCRIPTION:
URL:https://hbsv-1965.de/event/kinderdisco-herbst/
LOCATION:Gemeindehaus Hösel\, Bahnhofstraße 175\, Ratingen\, NRW\, 40883\, Deutschland
CATEGORIES:HBSV 1965 e.V.
ATTACH;FMTTYPE=image/png:https://hbsv-1965.de/wp-content/uploads/2025/01/pastedImage.png
END:VEVENT
END:VCALENDAR