BEGIN:VCALENDAR
VERSION:2.0
PRODID:-//HBSV 1965 e.V. - ECPv6.15.17.1//NONSGML v1.0//EN
CALSCALE:GREGORIAN
METHOD:PUBLISH
X-ORIGINAL-URL:https://hbsv-1965.de
X-WR-CALDESC:Veranstaltungen für HBSV 1965 e.V.
REFRESH-INTERVAL;VALUE=DURATION:PT1H
X-Robots-Tag:noindex
X-PUBLISHED-TTL:PT1H
BEGIN:VTIMEZONE
TZID:Europe/Berlin
BEGIN:DAYLIGHT
TZOFFSETFROM:+0100
TZOFFSETTO:+0200
TZNAME:CEST
DTSTART:20240331T010000
END:DAYLIGHT
BEGIN:STANDARD
TZOFFSETFROM:+0200
TZOFFSETTO:+0100
TZNAME:CET
DTSTART:20241027T010000
END:STANDARD
BEGIN:DAYLIGHT
TZOFFSETFROM:+0100
TZOFFSETTO:+0200
TZNAME:CEST
DTSTART:20250330T010000
END:DAYLIGHT
BEGIN:STANDARD
TZOFFSETFROM:+0200
TZOFFSETTO:+0100
TZNAME:CET
DTSTART:20251026T010000
END:STANDARD
BEGIN:DAYLIGHT
TZOFFSETFROM:+0100
TZOFFSETTO:+0200
TZNAME:CEST
DTSTART:20260329T010000
END:DAYLIGHT
BEGIN:STANDARD
TZOFFSETFROM:+0200
TZOFFSETTO:+0100
TZNAME:CET
DTSTART:20261025T010000
END:STANDARD
END:VTIMEZONE
BEGIN:VEVENT
DTSTART;TZID=Europe/Berlin:20251029T080000
DTEND;TZID=Europe/Berlin:20251029T170000
DTSTAMP:20260423T215443
CREATED:20251029T094318Z
LAST-MODIFIED:20251029T094321Z
UID:4750-1761724800-1761757200@hbsv-1965.de
SUMMARY:Einladung zum Nikolaus-Skatturnier 2025
DESCRIPTION:Liebe Skatfreundinnen und Skatfreunde\, \n\n\n\nam Samstag\, den 29. November 2025\, laden wir herzlich zu unserem traditionellen Nikolaus-Skatturnier ein! \n\n\n\n📅 Wann: Samstag\, 29.11.2025\, ab 18:00 Uhr📍 Wo: Evangelisches Gemeindezentrum Hösel💰 Startgeld: 8 € \n\n\n\nGespielt wird nach den bekannten und ausliegenden Skatregeln. Für die besten drei Spielerinnen und Spieler winken attraktive Sachpreise. \n\n\n\nEine Anmeldung im Voraus ist nicht erforderlich – einfach vorbeikommen\, mitspielen und einen geselligen Abend genießen! \n\n\n\nWir freuen uns auf einen spannenden und unterhaltsamen Skatabend – natürlich mit einem kleinen Augenzwinkern im Zeichen des Nikolaus. 🎅🃏
URL:https://hbsv-1965.de/event/einladung-zum-nikolaus-skatturnier-2025/
LOCATION:Bahnhofstrasse 138\, 40883 Ratingen\, Bahnhofstrasse 138\, Ratingen Hösel\, NRW\, 40883
CATEGORIES:HBSV 1965 e.V.
ATTACH;FMTTYPE=image/png:https://hbsv-1965.de/wp-content/uploads/2025/10/pastedImage-5.png
END:VEVENT
END:VCALENDAR